BEGIN:VCALENDAR
VERSION:2.0
PRODID:-//Library Market//iCal Export//EN
BEGIN:VEVENT
SUMMARY:A World of Magic with Magic Morgan &amp; Liliana
UID:16871
DTSTAMP:20260422T111300Z
DTSTART:20260730T200000Z
DTEND:20260730T210000Z
LOCATION:United States
ROOM: Community Room
DESCRIPTION:Magic Morgan &amp; Liliana blend the art of illusion and come
 dy to create wholesome, family-friendly entertainment for all ages. Their 
 show is filled with laughter, visual magic, mime, and audience participati
 on that keeps everyone engaged from beginning to end.Magic Morgan, a profe
 ssional Deaf illusionist, performs alongside his wife Liliana, creating a 
 unique and unforgettable experience that brings both the Deaf and hearing 
 communities together. Get ready to be amazed, inspired, and thoroughly ent
 ertained! An ASL/voice interpreter will be on hand. 
URL:https://beloit.librarycalendar.com/event/world-magic-magic-morgan-lili
 ana-16871
END:VEVENT
END:VCALENDAR
