BEGIN:VCALENDAR
VERSION:2.0
PRODID:-//Library Market//iCal Export//EN
BEGIN:VEVENT
SUMMARY:Fossils &amp; Dinosaurs: A Journey Through Time! - with the Burpee
  Museum
UID:14924
DTSTAMP:20260424T025300Z
DTSTART:20260618T190000Z
DTEND:20260618T200000Z
LOCATION:United States
ROOM: Community Room
DESCRIPTION:Get ready to travel way back in time, hundreds of millions of 
 years ago with Burpee Museum of Natural History! In this fun, hands-on pro
 gram, kids and families will discover amazing creatures from long ago, fro
 m ocean hunters to giant bugs and mighty dinosaurs. You will get to explor
 e real fossils, compare them up close, and take part in interactive activi
 ties that show just how big and different prehistoric life really was. It 
 is a dino sized adventure you will not want to miss! 
URL:https://beloit.librarycalendar.com/event/fossils-dinosaurs-burpee-muse
 um-14924
END:VEVENT
END:VCALENDAR
