BEGIN:VCALENDAR
VERSION:2.0
PRODID:-//Library Market//iCal Export//EN
BEGIN:VEVENT
SUMMARY:Slithering Snakes and Cool Reptiles! - with the Burpee Museum
UID:14923
DTSTAMP:20260420T100600Z
DTSTART:20260723T190000Z
DTEND:20260723T200000Z
LOCATION:United States
ROOM: Community Room
DESCRIPTION:Get up close with real, live reptiles brought to you by Burpee
  Museum of Natural History! In this fun and interactive program, kids and 
 families will meet snakes, lizards and turtles, in person while learning h
 ow they stay warm, survive in different habitats, and live their everyday 
 lives. You will get to see these amazing animals up close and discover the
  cool ways they are built to thrive in the wild. Come see these incredible
  creatures in action and learn what makes each one unique! 
URL:https://beloit.librarycalendar.com/event/live-reptiles-burpee-museum-1
 4923
END:VEVENT
END:VCALENDAR
